BEGIN:VCALENDAR
VERSION:2.0
PRODID:-//Kirchgemeinde Glattfelden - ECPv6.15.20//NONSGML v1.0//EN
CALSCALE:GREGORIAN
METHOD:PUBLISH
X-ORIGINAL-URL:https://kircheglattfelden.ch
X-WR-CALDESC:Veranstaltungen im Kirchgemeinde Glattfelden
REFRESH-INTERVAL;VALUE=DURATION:PT1H
X-Robots-Tag:noindex
X-PUBLISHED-TTL:PT1H
BEGIN:VTIMEZONE
TZID:Europe/Berlin
BEGIN:DAYLIGHT
TZOFFSETFROM:+0100
TZOFFSETTO:+0200
TZNAME:CEST
DTSTART:20250330T010000
END:DAYLIGHT
BEGIN:STANDARD
TZOFFSETFROM:+0200
TZOFFSETTO:+0100
TZNAME:CET
DTSTART:20251026T010000
END:STANDARD
BEGIN:DAYLIGHT
TZOFFSETFROM:+0100
TZOFFSETTO:+0200
TZNAME:CEST
DTSTART:20260329T010000
END:DAYLIGHT
BEGIN:STANDARD
TZOFFSETFROM:+0200
TZOFFSETTO:+0100
TZNAME:CET
DTSTART:20261025T010000
END:STANDARD
BEGIN:DAYLIGHT
TZOFFSETFROM:+0100
TZOFFSETTO:+0200
TZNAME:CEST
DTSTART:20270328T010000
END:DAYLIGHT
BEGIN:STANDARD
TZOFFSETFROM:+0200
TZOFFSETTO:+0100
TZNAME:CET
DTSTART:20271031T010000
END:STANDARD
END:VTIMEZONE
BEGIN:VEVENT
DTSTART;TZID=Europe/Berlin:20260531T100000
DTEND;TZID=Europe/Berlin:20260531T110000
DTSTAMP:20260424T133326
CREATED:20260408T175953Z
LAST-MODIFIED:20260414T092102Z
UID:10001043-1780221600-1780225200@kircheglattfelden.ch
SUMMARY:Konfirmationsgottesdienst 2
DESCRIPTION:Pfarrerin Kati Rechsteiner hält die Predigt. \nAnschliessend Apéro.\n					\n					\nWenn Sie eine Kollekte mit TWINT überweisen möchten\, können Sie den folgenden QR-Code benutzen. \n \nWeitere Informationen zu Zahlungen mit Twint finden Sie hier.
URL:https://kircheglattfelden.ch/veranstaltung/sonntagsgottesdienst-mit-konfirmation/
LOCATION:Reformierte Kirche Glattfelden\, Chilenweg 9\, Glattfelden\, 8192
CATEGORIES:Gottesdienste,Veranstaltungen
ATTACH;FMTTYPE=image/png:https://kircheglattfelden.ch/wp-content/uploads/2023/08/Bild-Kirche.png
ORGANIZER;CN="Pfarrerin Kati Rechsteiner":MAILTO:pfarrerin@kircheglattfelden.ch
END:VEVENT
BEGIN:VEVENT
DTSTART;TZID=Europe/Berlin:20260603T190000
DTEND;TZID=Europe/Berlin:20260603T193000
DTSTAMP:20260424T133326
CREATED:20260408T180057Z
LAST-MODIFIED:20260408T180057Z
UID:10001044-1780513200-1780515000@kircheglattfelden.ch
SUMMARY:Abendgebet
DESCRIPTION:Abendgebet mit Pfarrerin Kati Rechsteiner in der Kirche.
URL:https://kircheglattfelden.ch/veranstaltung/abendgebet-7/
LOCATION:Reformierte Kirche Glattfelden\, Chilenweg 9\, Glattfelden\, 8192
CATEGORIES:Gebet,Veranstaltungen
ATTACH;FMTTYPE=image/jpeg:https://kircheglattfelden.ch/wp-content/uploads/2020/06/Abendgebet.jpg
ORGANIZER;CN="Pfarrerin Kati Rechsteiner":MAILTO:pfarrerin@kircheglattfelden.ch
END:VEVENT
BEGIN:VEVENT
DTSTART;TZID=Europe/Berlin:20260605T093000
DTEND;TZID=Europe/Berlin:20260605T103000
DTSTAMP:20260424T133326
CREATED:20260408T180240Z
LAST-MODIFIED:20260408T180240Z
UID:10001046-1780651800-1780655400@kircheglattfelden.ch
SUMMARY:Ökumenischer Gottesdienst im Altersheim
DESCRIPTION:Es sind alle herzlich willkommen.
URL:https://kircheglattfelden.ch/veranstaltung/oekumenischer-gottesdienst-im-altersheim-11/
LOCATION:Altersheim Eichhölzli\, Schachemerstrasse 15\, Glattfelden\, 8192
CATEGORIES:Altersarbeit,Altersheimgottesdienste
ATTACH;FMTTYPE=image/png:https://kircheglattfelden.ch/wp-content/uploads/2022/07/alte-gefaltete-Haende.png
ORGANIZER;CN="Pfarrerin Kati Rechsteiner":MAILTO:pfarrerin@kircheglattfelden.ch
END:VEVENT
BEGIN:VEVENT
DTSTART;TZID=Europe/Berlin:20260614T093000
DTEND;TZID=Europe/Berlin:20260614T103000
DTSTAMP:20260424T133326
CREATED:20260408T180652Z
LAST-MODIFIED:20260414T092435Z
UID:10001047-1781429400-1781433000@kircheglattfelden.ch
SUMMARY:Sonntagsgottesdienst
DESCRIPTION:Pfarrerin Kati Rechsteiner hält die Predigt. \nIm Anschluss an den Gottesdienst gibt es eine kurze Kaffeepause und danach findet die Kirchgemeindeversammlung statt. Wir laden alle Gemeindemitglieder herzlich dazu ein.\n					\n					\nWenn Sie eine Kollekte mit TWINT überweisen möchten\, können Sie den folgenden QR-Code benutzen. \n \nWeitere Informationen zu Zahlungen mit Twint finden Sie hier.
URL:https://kircheglattfelden.ch/veranstaltung/sonntagsgottesdienst-12/
LOCATION:Reformierte Kirche Glattfelden\, Chilenweg 9\, Glattfelden\, 8192
CATEGORIES:Gottesdienste,Veranstaltungen
ATTACH;FMTTYPE=image/png:https://kircheglattfelden.ch/wp-content/uploads/2023/08/Bild-Kirche.png
ORGANIZER;CN="Pfarrerin Kati Rechsteiner":MAILTO:pfarrerin@kircheglattfelden.ch
END:VEVENT
BEGIN:VEVENT
DTSTART;TZID=Europe/Berlin:20260617T190000
DTEND;TZID=Europe/Berlin:20260617T193000
DTSTAMP:20260424T133326
CREATED:20260408T181721Z
LAST-MODIFIED:20260408T181721Z
UID:10001050-1781722800-1781724600@kircheglattfelden.ch
SUMMARY:Abendgebet
DESCRIPTION:Abendgebet mit Pfarrerin Kati Rechsteiner in der Kirche.
URL:https://kircheglattfelden.ch/veranstaltung/abendgebet-9/
LOCATION:Reformierte Kirche Glattfelden\, Chilenweg 9\, Glattfelden\, 8192
CATEGORIES:Gebet,Veranstaltungen
ATTACH;FMTTYPE=image/jpeg:https://kircheglattfelden.ch/wp-content/uploads/2020/06/Abendgebet.jpg
ORGANIZER;CN="Pfarrerin Kati Rechsteiner":MAILTO:pfarrerin@kircheglattfelden.ch
END:VEVENT
BEGIN:VEVENT
DTSTART;TZID=Europe/Berlin:20260619T093000
DTEND;TZID=Europe/Berlin:20260619T103000
DTSTAMP:20260424T133326
CREATED:20260408T182236Z
LAST-MODIFIED:20260408T182236Z
UID:10001053-1781861400-1781865000@kircheglattfelden.ch
SUMMARY:Ökumenischer Gottesdienst im Altersheim
DESCRIPTION:Es sind alle herzlich willkommen.
URL:https://kircheglattfelden.ch/veranstaltung/oekumenischer-gottesdienst-im-altersheim-12/
LOCATION:Altersheim Eichhölzli\, Schachemerstrasse 15\, Glattfelden\, 8192
CATEGORIES:Altersarbeit,Altersheimgottesdienste
ATTACH;FMTTYPE=image/png:https://kircheglattfelden.ch/wp-content/uploads/2022/07/alte-gefaltete-Haende.png
ORGANIZER;CN="Pfarrerin Kati Rechsteiner":MAILTO:pfarrerin@kircheglattfelden.ch
END:VEVENT
BEGIN:VEVENT
DTSTART;TZID=Europe/Berlin:20260621T100000
DTEND;TZID=Europe/Berlin:20260621T110000
DTSTAMP:20260424T133326
CREATED:20260408T181937Z
LAST-MODIFIED:20260414T092621Z
UID:10001051-1782036000-1782039600@kircheglattfelden.ch
SUMMARY:Familiengottesdienst mit Taufe am Brunnen
DESCRIPTION:Pfarrerin Kati Rechsteiner hält die Predigt. \nDie Kinder des 3. Klass-Unti wirken mit.\n					\n					\nWenn Sie eine Kollekte mit TWINT überweisen möchten\, können Sie den folgenden QR-Code benutzen. \n \nWeitere Informationen zu Zahlungen mit Twint finden Sie hier.
URL:https://kircheglattfelden.ch/veranstaltung/familiengottesdienst-mit-taufe/
LOCATION:Reformierte Kirche Glattfelden\, Chilenweg 9\, Glattfelden\, 8192
CATEGORIES:Gottesdienste,Veranstaltungen
ATTACH;FMTTYPE=image/png:https://kircheglattfelden.ch/wp-content/uploads/2023/08/Bild-Kirche.png
ORGANIZER;CN="Pfarrerin Kati Rechsteiner":MAILTO:pfarrerin@kircheglattfelden.ch
END:VEVENT
END:VCALENDAR