BEGIN:VCALENDAR
VERSION:2.0
PRODID:-//Kirchgemeinde Glattfelden - ECPv6.15.20//NONSGML v1.0//EN
CALSCALE:GREGORIAN
METHOD:PUBLISH
X-WR-CALNAME:Kirchgemeinde Glattfelden
X-ORIGINAL-URL:https://kircheglattfelden.ch
X-WR-CALDESC:Veranstaltungen im Kirchgemeinde Glattfelden
REFRESH-INTERVAL;VALUE=DURATION:PT1H
X-Robots-Tag:noindex
X-PUBLISHED-TTL:PT1H
BEGIN:VTIMEZONE
TZID:Europe/Berlin
BEGIN:DAYLIGHT
TZOFFSETFROM:+0100
TZOFFSETTO:+0200
TZNAME:CEST
DTSTART:20250330T010000
END:DAYLIGHT
BEGIN:STANDARD
TZOFFSETFROM:+0200
TZOFFSETTO:+0100
TZNAME:CET
DTSTART:20251026T010000
END:STANDARD
BEGIN:DAYLIGHT
TZOFFSETFROM:+0100
TZOFFSETTO:+0200
TZNAME:CEST
DTSTART:20260329T010000
END:DAYLIGHT
BEGIN:STANDARD
TZOFFSETFROM:+0200
TZOFFSETTO:+0100
TZNAME:CET
DTSTART:20261025T010000
END:STANDARD
BEGIN:DAYLIGHT
TZOFFSETFROM:+0100
TZOFFSETTO:+0200
TZNAME:CEST
DTSTART:20270328T010000
END:DAYLIGHT
BEGIN:STANDARD
TZOFFSETFROM:+0200
TZOFFSETTO:+0100
TZNAME:CET
DTSTART:20271031T010000
END:STANDARD
END:VTIMEZONE
BEGIN:VEVENT
DTSTART;TZID=Europe/Berlin:20260508T093000
DTEND;TZID=Europe/Berlin:20260508T103000
DTSTAMP:20260425T143748
CREATED:20260313T184648Z
LAST-MODIFIED:20260313T184648Z
UID:10001032-1778232600-1778236200@kircheglattfelden.ch
SUMMARY:Ökumenischer Gottesdienst im Altersheim
DESCRIPTION:Es sind alle herzlich willkommen.
URL:https://kircheglattfelden.ch/veranstaltung/oekumenischer-gottesdienst-im-altersheim-2/
LOCATION:Altersheim Eichhölzli\, Schachemerstrasse 15\, Glattfelden\, 8192
CATEGORIES:Altersarbeit,Altersheimgottesdienste
ATTACH;FMTTYPE=image/png:https://kircheglattfelden.ch/wp-content/uploads/2022/07/alte-gefaltete-Haende.png
ORGANIZER;CN="Pfarrerin Kati Rechsteiner":MAILTO:pfarrerin@kircheglattfelden.ch
END:VEVENT
BEGIN:VEVENT
DTSTART;TZID=Europe/Berlin:20260522T093000
DTEND;TZID=Europe/Berlin:20260522T103000
DTSTAMP:20260425T143748
CREATED:20260313T190302Z
LAST-MODIFIED:20260313T190302Z
UID:10001039-1779442200-1779445800@kircheglattfelden.ch
SUMMARY:Ökumenischer Gottesdienst im Altersheim
DESCRIPTION:Es sind alle herzlich willkommen.
URL:https://kircheglattfelden.ch/veranstaltung/oekumenischer-gottesdienst-im-altersheim-3/
LOCATION:Altersheim Eichhölzli\, Schachemerstrasse 15\, Glattfelden\, 8192
CATEGORIES:Altersarbeit,Altersheimgottesdienste
ATTACH;FMTTYPE=image/png:https://kircheglattfelden.ch/wp-content/uploads/2022/07/alte-gefaltete-Haende.png
ORGANIZER;CN="Pfarrerin Kati Rechsteiner":MAILTO:pfarrerin@kircheglattfelden.ch
END:VEVENT
BEGIN:VEVENT
DTSTART;TZID=Europe/Berlin:20260528T143000
DTEND;TZID=Europe/Berlin:20260528T143000
DTSTAMP:20260425T143748
CREATED:20260408T175723Z
LAST-MODIFIED:20260408T175723Z
UID:10001041-1779978600-1779978600@kircheglattfelden.ch
SUMMARY:Altersnachmittag
DESCRIPTION:Ein ökumenischer Altersnachmittag im Altersheim Eichhölzli.\nFür die Bewohnerinnen\, Bewohner und alle anderen Interessierten.
URL:https://kircheglattfelden.ch/veranstaltung/altersnachmittag-2/
LOCATION:Altersheim Eichhölzli\, Schachemerstrasse 15\, Glattfelden\, 8192
CATEGORIES:Altersarbeit,Seniorenveranstaltungen
ATTACH;FMTTYPE=image/jpeg:https://kircheglattfelden.ch/wp-content/uploads/2022/08/Senioren-Tee-Party-Gespraech.jpg
END:VEVENT
BEGIN:VEVENT
DTSTART;TZID=Europe/Berlin:20260605T093000
DTEND;TZID=Europe/Berlin:20260605T103000
DTSTAMP:20260425T143748
CREATED:20260408T180240Z
LAST-MODIFIED:20260408T180240Z
UID:10001046-1780651800-1780655400@kircheglattfelden.ch
SUMMARY:Ökumenischer Gottesdienst im Altersheim
DESCRIPTION:Es sind alle herzlich willkommen.
URL:https://kircheglattfelden.ch/veranstaltung/oekumenischer-gottesdienst-im-altersheim-11/
LOCATION:Altersheim Eichhölzli\, Schachemerstrasse 15\, Glattfelden\, 8192
CATEGORIES:Altersarbeit,Altersheimgottesdienste
ATTACH;FMTTYPE=image/png:https://kircheglattfelden.ch/wp-content/uploads/2022/07/alte-gefaltete-Haende.png
ORGANIZER;CN="Pfarrerin Kati Rechsteiner":MAILTO:pfarrerin@kircheglattfelden.ch
END:VEVENT
BEGIN:VEVENT
DTSTART;TZID=Europe/Berlin:20260618T143000
DTEND;TZID=Europe/Berlin:20260618T143000
DTSTAMP:20260425T143748
CREATED:20260408T182214Z
LAST-MODIFIED:20260408T182214Z
UID:10001052-1781793000-1781793000@kircheglattfelden.ch
SUMMARY:Altersnachmittag
DESCRIPTION:Ein ökumenischer Altersnachmittag im Altersheim Eichhölzli.\nFür die Bewohnerinnen\, Bewohner und alle anderen Interessierten.
URL:https://kircheglattfelden.ch/veranstaltung/altersnachmittag-3/
LOCATION:Altersheim Eichhölzli\, Schachemerstrasse 15\, Glattfelden\, 8192
CATEGORIES:Altersarbeit,Seniorenveranstaltungen
ATTACH;FMTTYPE=image/jpeg:https://kircheglattfelden.ch/wp-content/uploads/2022/08/Senioren-Tee-Party-Gespraech.jpg
END:VEVENT
BEGIN:VEVENT
DTSTART;TZID=Europe/Berlin:20260619T093000
DTEND;TZID=Europe/Berlin:20260619T103000
DTSTAMP:20260425T143748
CREATED:20260408T182236Z
LAST-MODIFIED:20260408T182236Z
UID:10001053-1781861400-1781865000@kircheglattfelden.ch
SUMMARY:Ökumenischer Gottesdienst im Altersheim
DESCRIPTION:Es sind alle herzlich willkommen.
URL:https://kircheglattfelden.ch/veranstaltung/oekumenischer-gottesdienst-im-altersheim-12/
LOCATION:Altersheim Eichhölzli\, Schachemerstrasse 15\, Glattfelden\, 8192
CATEGORIES:Altersarbeit,Altersheimgottesdienste
ATTACH;FMTTYPE=image/png:https://kircheglattfelden.ch/wp-content/uploads/2022/07/alte-gefaltete-Haende.png
ORGANIZER;CN="Pfarrerin Kati Rechsteiner":MAILTO:pfarrerin@kircheglattfelden.ch
END:VEVENT
END:VCALENDAR